BEGIN:VCALENDAR
VERSION:2.0
PRODID:-//LIVE-STAGE Familieninfo MV RELAUNCH - ECPv6.15.17.1//NONSGML v1.0//EN
CALSCALE:GREGORIAN
METHOD:PUBLISH
X-WR-CALNAME:LIVE-STAGE Familieninfo MV RELAUNCH
X-ORIGINAL-URL:https://nora-madh.de
X-WR-CALDESC:Veranstaltungen für LIVE-STAGE Familieninfo MV RELAUNCH
REFRESH-INTERVAL;VALUE=DURATION:PT1H
X-Robots-Tag:noindex
X-PUBLISHED-TTL:PT1H
BEGIN:VTIMEZONE
TZID:Europe/Berlin
BEGIN:DAYLIGHT
TZOFFSETFROM:+0100
TZOFFSETTO:+0200
TZNAME:CEST
DTSTART:20250330T010000
END:DAYLIGHT
BEGIN:STANDARD
TZOFFSETFROM:+0200
TZOFFSETTO:+0100
TZNAME:CET
DTSTART:20251026T010000
END:STANDARD
BEGIN:DAYLIGHT
TZOFFSETFROM:+0100
TZOFFSETTO:+0200
TZNAME:CEST
DTSTART:20260329T010000
END:DAYLIGHT
BEGIN:STANDARD
TZOFFSETFROM:+0200
TZOFFSETTO:+0100
TZNAME:CET
DTSTART:20261025T010000
END:STANDARD
BEGIN:DAYLIGHT
TZOFFSETFROM:+0100
TZOFFSETTO:+0200
TZNAME:CEST
DTSTART:20270328T010000
END:DAYLIGHT
BEGIN:STANDARD
TZOFFSETFROM:+0200
TZOFFSETTO:+0100
TZNAME:CET
DTSTART:20271031T010000
END:STANDARD
END:VTIMEZONE
BEGIN:VEVENT
DTSTART;TZID=Europe/Berlin:20260428T153000
DTEND;TZID=Europe/Berlin:20260428T161500
DTSTAMP:20260424T103741
CREATED:20250114T090637Z
LAST-MODIFIED:20260220T132134Z
UID:10013015-1777390200-1777392900@nora-madh.de
SUMMARY:Gitarrenunterricht für Kinder und Jugendliche
DESCRIPTION:Es ist selten zu früh ein Instrument zu erlernen\, jedoch niemals zu spät! \nMusikalische Bildung leistet einen wichtigen Beitrag zur Persönlichkeitsentwicklung. Die Teilnehmenden werden sanft an die Grundlagen des Gitarre Spielens herangeführt. Sie lernen verschiedene Liedbegleitungen mit einfachen bis anspruchsvollen Akkorden\, aber auch mit Noten und Tabulatoren. \ndienstags\, außer in den Ferien von 15:30 – 16:15 Uhr \n30\,00 € / Unterrichtsstunde im Einzelunterricht \n20\,00 € / Unterrichtsstunde im Gruppenunterricht
URL:https://nora-madh.de/event/gitarrenunterricht-fuer-kinder-und-jugendliche/2026-04-28/
LOCATION:Familienbildungszentrum JAMBUS Bad Sülze\, Recknitzallee 1A\, Bad Sülze\, Mecklenburg-Vorpommern\, 18334\, Germany
CATEGORIES:Kurse
ATTACH;FMTTYPE=image/jpeg:https://nora-madh.de/wp-content/uploads/2025/01/Gitarrenunterricht-e1736850133980.jpg
GEO:54.1069896;12.6657738
X-APPLE-STRUCTURED-LOCATION;VALUE=URI;X-ADDRESS=Familienbildungszentrum JAMBUS Bad Sülze Recknitzallee 1A Bad Sülze Mecklenburg-Vorpommern 18334 Germany;X-APPLE-RADIUS=500;X-TITLE=Recknitzallee 1A:geo:12.6657738,54.1069896
END:VEVENT
BEGIN:VEVENT
DTSTART;TZID=Europe/Berlin:20260505T153000
DTEND;TZID=Europe/Berlin:20260505T161500
DTSTAMP:20260424T103741
CREATED:20250114T090637Z
LAST-MODIFIED:20260220T132134Z
UID:10013016-1777995000-1777997700@nora-madh.de
SUMMARY:Gitarrenunterricht für Kinder und Jugendliche
DESCRIPTION:Es ist selten zu früh ein Instrument zu erlernen\, jedoch niemals zu spät! \nMusikalische Bildung leistet einen wichtigen Beitrag zur Persönlichkeitsentwicklung. Die Teilnehmenden werden sanft an die Grundlagen des Gitarre Spielens herangeführt. Sie lernen verschiedene Liedbegleitungen mit einfachen bis anspruchsvollen Akkorden\, aber auch mit Noten und Tabulatoren. \ndienstags\, außer in den Ferien von 15:30 – 16:15 Uhr \n30\,00 € / Unterrichtsstunde im Einzelunterricht \n20\,00 € / Unterrichtsstunde im Gruppenunterricht
URL:https://nora-madh.de/event/gitarrenunterricht-fuer-kinder-und-jugendliche/2026-05-05/
LOCATION:Familienbildungszentrum JAMBUS Bad Sülze\, Recknitzallee 1A\, Bad Sülze\, Mecklenburg-Vorpommern\, 18334\, Germany
CATEGORIES:Kurse
ATTACH;FMTTYPE=image/jpeg:https://nora-madh.de/wp-content/uploads/2025/01/Gitarrenunterricht-e1736850133980.jpg
GEO:54.1069896;12.6657738
X-APPLE-STRUCTURED-LOCATION;VALUE=URI;X-ADDRESS=Familienbildungszentrum JAMBUS Bad Sülze Recknitzallee 1A Bad Sülze Mecklenburg-Vorpommern 18334 Germany;X-APPLE-RADIUS=500;X-TITLE=Recknitzallee 1A:geo:12.6657738,54.1069896
END:VEVENT
BEGIN:VEVENT
DTSTART;TZID=Europe/Berlin:20260512T153000
DTEND;TZID=Europe/Berlin:20260512T161500
DTSTAMP:20260424T103741
CREATED:20250114T090637Z
LAST-MODIFIED:20260220T132134Z
UID:10013017-1778599800-1778602500@nora-madh.de
SUMMARY:Gitarrenunterricht für Kinder und Jugendliche
DESCRIPTION:Es ist selten zu früh ein Instrument zu erlernen\, jedoch niemals zu spät! \nMusikalische Bildung leistet einen wichtigen Beitrag zur Persönlichkeitsentwicklung. Die Teilnehmenden werden sanft an die Grundlagen des Gitarre Spielens herangeführt. Sie lernen verschiedene Liedbegleitungen mit einfachen bis anspruchsvollen Akkorden\, aber auch mit Noten und Tabulatoren. \ndienstags\, außer in den Ferien von 15:30 – 16:15 Uhr \n30\,00 € / Unterrichtsstunde im Einzelunterricht \n20\,00 € / Unterrichtsstunde im Gruppenunterricht
URL:https://nora-madh.de/event/gitarrenunterricht-fuer-kinder-und-jugendliche/2026-05-12/
LOCATION:Familienbildungszentrum JAMBUS Bad Sülze\, Recknitzallee 1A\, Bad Sülze\, Mecklenburg-Vorpommern\, 18334\, Germany
CATEGORIES:Kurse
ATTACH;FMTTYPE=image/jpeg:https://nora-madh.de/wp-content/uploads/2025/01/Gitarrenunterricht-e1736850133980.jpg
GEO:54.1069896;12.6657738
X-APPLE-STRUCTURED-LOCATION;VALUE=URI;X-ADDRESS=Familienbildungszentrum JAMBUS Bad Sülze Recknitzallee 1A Bad Sülze Mecklenburg-Vorpommern 18334 Germany;X-APPLE-RADIUS=500;X-TITLE=Recknitzallee 1A:geo:12.6657738,54.1069896
END:VEVENT
END:VCALENDAR